Workbook

Sheet Bieu 01
A1: BIỂU SỐ 01
A3: BIỂU TỔNG HỢP KẾT QUẢ LỰA CHỌN NHÀ THẦU
A4: CÁC GÓI THẦU THUỘC DỰ ÁN ĐẦU TƯ THEO QUY ĐỊNH TẠI ĐIỂM A KHOẢN 1 ĐIỀU 2 VÀ ĐIỂM A KHOẢN 2 ĐIỀU 2 LUẬT ĐẤU THẦU SỐ 22/2023/QH15
A5: (Kèm theo Báo cáo số /BC-UBND ngày tháng 01/2026 của UBND xã Tây Thái Ninh) | T5: Đơn vị: Triệu đồng
A6: LĨNH VỰC VÀ HÌNH THỨC | D6: Dự án quan trọng quốc gia (1) | H6: Dự án nhóm A (2) | L6: Dự án nhóm B (3) | P6: Dự án nhóm C | T6: Cộng 1 + 2 + 3 +4)
D7: Tổng số gói thầu | E7: Tổng giá gói thầu | F7: Tổng giá trúng thầu | G7: Chênh lệch | H7: Tổng số gói thầu | I7: Tổng giá gói thầu | J7: Tổng giá trúng thầu | K7: Chênh lệch | L7: Tổng số gói thầu | M7: Tổng giá gói thầu | N7: Tổng giá trúng thầu | O7: Chênh lệch | P7: Tổng số gói thầu | Q7: Tổng giá gói thầu | R7: Tổng giá trúng thầu | S7: Chênh lệch | T7: Tổng số gói thầu | U7: Tổng giá gói thầu | V7: Tổng giá trúng thầu | W7: Chênh lệch
A8: I. THEO LĨNH VỰC ĐẤU THẦU
A9: 1. Phi tư vấn | C9: KQM | G9: =INDIRECT("E9")-INDIRECT("F9") -> 0 | K9: =INDIRECT("I9")-INDIRECT("J9") -> 0 | O9: =INDIRECT("M9")-INDIRECT("N9") -> 0 | P9: 0 | Q9: 0 | R9: 0 | S9: =INDIRECT("Q9")-INDIRECT("R9") -> 0 | T9: =SUM(INDIRECT("D9"),INDIRECT("H9"),INDIRECT("L9"),INDIRECT("P9")) -> 0 | U9: =SUM(E9,I9,M9,Q9) -> 0 | V9: =SUM(F9,J9,N9,R9) -> 0 | W9: =SUM(G9,K9,O9,S9) -> 0
C10: QM | G10: =INDIRECT("E10")-INDIRECT("F10") -> 0 | H10: 0 | K10: =INDIRECT("I10")-INDIRECT("J10") -> 0 | O10: =INDIRECT("M10")-INDIRECT("N10") -> 0 | P10: 0 | Q10: 0 | R10: 0 | S10: =INDIRECT("Q10")-INDIRECT("R10") -> 0 | T10: =SUM(D10,H10,L10,P10) -> 0 | U10: =SUM(E10,I10,M10,Q10) -> 0 | V10: =SUM(F10,J10,N10,R10) -> 0 | W10: =SUM(G10,K10,O10,S10) -> 0
A11: 2. Tư vấn | C11: KQM | G11: =INDIRECT("E11")-INDIRECT("F11") -> 0 | K11: =INDIRECT("I11")-INDIRECT("J11") -> 0 | O11: =INDIRECT("M11")-INDIRECT("N11") -> 0 | P11: =2+6+2 -> 10 | Q11: =33+16+22+108+264+227+35+36+30+31 -> 802 | R11: =443+227+35+36+30+31 -> 802 | S11: =INDIRECT("Q11")-INDIRECT("R11") -> 0 | T11: =SUM(D11,H11,L11,P11) -> 10 | U11: =SUM(E11,I11,M11,Q11) -> 802 | V11: =SUM(F11,J11,N11,R11) -> 802 | W11: =SUM(G11,K11,O11,S11) -> 0
C12: QM | G12: =INDIRECT("E12")-INDIRECT("F12") -> 0 | K12: =INDIRECT("I12")-INDIRECT("J12") -> 0 | O12: =INDIRECT("M12")-INDIRECT("N12") -> 0 | S12: =INDIRECT("Q12")-INDIRECT("R12") -> 0 | T12: =SUM(D12,H12,L12,P12) -> 0 | U12: =SUM(E12,I12,M12,Q12) -> 0 | V12: =SUM(F12,J12,N12,R12) -> 0 | W12: =SUM(G12,K12,O12,S12) -> 0
A13: 3. Mua sắm hàng hóa | C13: KQM | G13: =INDIRECT("E13")-INDIRECT("F13") -> 0 | K13: =INDIRECT("I13")-INDIRECT("J13") -> 0 | O13: =INDIRECT("M13")-INDIRECT("N13") -> 0 | S13: =INDIRECT("Q13")-INDIRECT("R13") -> 0 | T13: =SUM(D13,H13,L13,P13) -> 0 | U13: =SUM(E13,I13,M13,Q13) -> 0 | V13: =SUM(F13,J13,N13,R13) -> 0 | W13: =SUM(G13,K13,O13,S13) -> 0
C14: QM | G14: =INDIRECT("E14")-INDIRECT("F14") -> 0 | K14: =INDIRECT("I14")-INDIRECT("J14") -> 0 | O14: =INDIRECT("M14")-INDIRECT("N14") -> 0 | S14: =INDIRECT("Q14")-INDIRECT("R14") -> 0 | T14: =SUM(D14,H14,L14,P14) -> 0 | U14: =SUM(E14,I14,M14,Q14) -> 0 | V14: =SUM(F14,J14,N14,R14) -> 0 | W14: =SUM(G14,K14,O14,S14) -> 0
A15: 4. Xây lắp | C15: KQM | G15: =INDIRECT("E15")-INDIRECT("F15") -> 0 | K15: =INDIRECT("I15")-INDIRECT("J15") -> 0 | O15: =INDIRECT("M15")-INDIRECT("N15") -> 0 | P15: =1+1 -> 2 | Q15: =940+1090 -> 2030 | R15: =1090+940 -> 2030 | S15: =INDIRECT("Q15")-INDIRECT("R15") -> 0 | T15: =SUM(D15,H15,L15,P15) -> 2 | U15: =SUM(E15,I15,M15,Q15) -> 2030 | V15: =SUM(F15,J15,N15,R15) -> 2030 | W15: =SUM(G15,K15,O15,S15) -> 0
C16: QM | G16: =INDIRECT("E16")-INDIRECT("F16") -> 0 | K16: =INDIRECT("I16")-INDIRECT("J16") -> 0 | O16: =INDIRECT("M16")-INDIRECT("N16") -> 0 | P16: 1 | Q16: 9038 | R16: 9001 | S16: =INDIRECT("Q16")-INDIRECT("R16") -> 37 | T16: =SUM(D16,H16,L16,P16) -> 1 | U16: =SUM(E16,I16,M16,Q16) -> 9038 | V16: =SUM(F16,J16,N16,R16) -> 9001 | W16: =SUM(G16,K16,O16,S16) -> 37
A17: 5. Hỗn hợp | C17: KQM | G17: =INDIRECT("E15")-INDIRECT("F15") -> 0 | K17: =INDIRECT("I15")-INDIRECT("J15") -> 0 | O17: =INDIRECT("M15")-INDIRECT("N15") -> 0 | S17: =INDIRECT("Q15")-INDIRECT("R15") -> 0 | T17: =SUM(D17,H17,L17,P17) -> 0 | U17: =SUM(E17,I17,M17,Q17) -> 0 | V17: =SUM(F17,J17,N17,R17) -> 0 | W17: =SUM(G17,K17,O17,S17) -> 0
C18: QM | G18: =INDIRECT("E16")-INDIRECT("F16") -> 0 | K18: =INDIRECT("I16")-INDIRECT("J16") -> 0 | O18: =INDIRECT("M16")-INDIRECT("N16") -> 0 | S18: =INDIRECT("Q16")-INDIRECT("R16") -> 37 | T18: =SUM(D18,H18,L18,P18) -> 0 | U18: =SUM(E18,I18,M18,Q18) -> 0 | V18: =SUM(F18,J18,N18,R18) -> 0 | W18: =SUM(G18,K18,O18,S18) -> 37
A19: Tổng cộng I | C19: KQM | D19: =SUM(D9,D11,D13,D15,D17) -> 0 | E19: =SUM(E9,E11,E13,E15,E17) -> 0 | F19: =SUM(F9,F11,F13,F15,F17) -> 0 | G19: =INDIRECT("E19")-INDIRECT("F19") -> 0 | H19: =SUM(H9,H11,H13,H15,H17) -> 0 | I19: =SUM(I9,I11,I13,I15,I17) -> 0 | J19: =SUM(J9,J11,J13,J15,J17) -> 0 | K19: =INDIRECT("I19")-INDIRECT("J19") -> 0 | L19: =SUM(L9,L11,L13,L15,L17) -> 0 | M19: =SUM(M9,M11,M13,M15,M17) -> 0 | N19: =SUM(N9,N11,N13,N15,N17) -> 0 | O19: =INDIRECT("M19")-INDIRECT("N19") -> 0 | P19: =SUM(P9,P11,P13,P15,P17) -> 12 | Q19: =SUM(Q9,Q11,Q13,Q15,Q17) -> 2832 | R19: =SUM(R9,R11,R13,R15,R17) -> 2832 | S19: =INDIRECT("Q19")-INDIRECT("R19") -> 0 | T19: =SUM(T9,T11,T13,T15,T17) -> 12 | U19: =SUM(U9,U11,U13,U15,U17) -> 2832 | V19: =SUM(V9,V11,V13,V15,V17) -> 2832 | W19: =SUM(G19,K19,O19,S19) -> 0
C20: QM | D20: =SUM(D10,D12,D14,D16) -> 0 | E20: =SUM(E10,E12,E14,E16) -> 0 | F20: =SUM(F10,F12,F14,F16) -> 0 | G20: =INDIRECT("E20")-INDIRECT("F20") -> 0 | H20: =SUM(H10,H12,H14,H16) -> 0 | I20: =SUM(I10,I12,I14,I16) -> 0 | J20: =SUM(J10,J12,J14,J16) -> 0 | K20: =INDIRECT("I20")-INDIRECT("J20") -> 0 | L20: =SUM(L10,L12,L14,L16) -> 0 | M20: =SUM(M10,M12,M14,M16) -> 0 | N20: =SUM(N10,N12,N14,N16) -> 0 | O20: =INDIRECT("M20")-INDIRECT("N20") -> 0 | P20: =SUM(P10,P12,P14,P16) -> 1 | Q20: =SUM(Q10,Q12,Q14,Q16) -> 9038 | R20: =SUM(R10,R12,R14,R16) -> 9001 | S20: =INDIRECT("Q20")-INDIRECT("R20") -> 37 | T20: =SUM(T10,T12,T14,T16) -> 1 | U20: =SUM(U10,U12,U14,U16) -> 9038 | V20: =SUM(V10,V12,V14,V16) -> 9001 | W20: =SUM(G20,K20,O20,S20) -> 37
A21: II. THEO HÌNH THỨC LỰA CHỌN NHÀ THẦU
A22: 1. Đấu thầu rộng rãi | B22: Trong nước | C22: KQM | G22: =E22-F22 -> 0 | K22: =I22-J22 -> 0 | O22: =M22-N22 -> 0 | P22: 0 | Q22: 0 | R22: 0 | S22: =Q22-R22 -> 0 | T22: =SUM(D22,H22,L22,P22) -> 0 | U22: =SUM(E22,I22,M22,Q22) -> 0 | V22: =SUM(F22,J22,N22,R22) -> 0 | W22: =SUM(G22,K22,O22,S22) -> 0
C23: QM | G23: =E23-F23 -> 0 | K23: =I23-J23 -> 0 | O23: =M23-N23 -> 0 | P23: 1 | Q23: 9038 | R23: 9001 | S23: =Q23-R23 -> 37 | T23: =SUM(D23,H23,L23,P23) -> 1 | U23: =SUM(E23,I23,M23,Q23) -> 9038 | V23: =SUM(F23,J23,N23,R23) -> 9001 | W23: =SUM(G23,K23,O23,S23) -> 37
B24: Quốc tế | C24: KQM | G24: =E24-F24 -> 0 | K24: =I24-J24 -> 0 | O24: =M24-N24 -> 0 | S24: =Q24-R24 -> 0 | T24: =SUM(D24,H24,L24,P24) -> 0 | U24: =SUM(E24,I24,M24,Q24) -> 0 | V24: =SUM(F24,J24,N24,R24) -> 0 | W24: =SUM(G24,K24,O24,S24) -> 0
A25: 2. Đấu thầu hạn chế | B25: Trong nước | C25: KQM | G25: =E25-F25 -> 0 | K25: =I25-J25 -> 0 | O25: =M25-N25 -> 0 | S25: =Q25-R25 -> 0 | T25: =SUM(D25,H25,L25,P25) -> 0 | U25: =SUM(E25,I25,M25,Q25) -> 0 | V25: =SUM(F25,J25,N25,R25) -> 0 | W25: =SUM(G25,K25,O25,S25) -> 0
C26: QM | G26: =E26-F26 -> 0 | K26: =I26-J26 -> 0 | O26: =M26-N26 -> 0 | S26: =Q26-R26 -> 0 | T26: =SUM(D26,H26,L26,P26) -> 0 | U26: =SUM(E26,I26,M26,Q26) -> 0 | V26: =SUM(F26,J26,N26,R26) -> 0 | W26: =SUM(G26,K26,O26,S26) -> 0
B27: Quốc tế | C27: KQM | G27: =E27-F27 -> 0 | K27: =I27-J27 -> 0 | O27: =M27-N27 -> 0 | S27: =Q27-R27 -> 0 | T27: =SUM(D27,H27,L27,P27) -> 0 | U27: =SUM(E27,I27,M27,Q27) -> 0 | V27: =SUM(F27,J27,N27,R27) -> 0 | W27: =SUM(G27,K27,O27,S27) -> 0
A28: 3. Chỉ định thầu | B28: Trong nước | C28: KQM | G28: =E28-F28 -> 0 | K28: =I28-J28 -> 0 | O28: =M28-N28 -> 0 | P28: =3+5+3 -> 11 | Q28: =33+16+22+108+264+35+36+1090+30+31+940 -> 2605 | R28: =33+16+22+108+264+35+36+30+31+1090+940 -> 2605 | S28: =Q28-R28 -> 0 | T28: =SUM(D28,H28,L28,P28) -> 11 | U28: =SUM(E28,I28,M28,Q28) -> 2605 | V28: =SUM(F28,J28,N28,R28) -> 2605 | W28: =SUM(G28,K28,O28,S28) -> 0
B29: Quốc tế | C29: KQM | G29: =E29-F29 -> 0 | K29: =I29-J29 -> 0 | L29: 0 | M29: 0 | N29: 0 | O29: =M29-N29 -> 0 | S29: =Q29-R29 -> 0 | T29: =SUM(D29,H29,L29,P29) -> 0 | U29: =SUM(E29,I29,M29,Q29) -> 0 | V29: =SUM(F29,J29,N29,R29) -> 0 | W29: =SUM(G29,K29,O29,S29) -> 0
A30: 4. Chào hàng cạnh tranh | B30: Trong nước | C30: KQM | G30: =E30-F30 -> 0 | H30: 0 | I30: 0 | J30: 0 | K30: =I30-J30 -> 0 | L30: 0 | M30: 0 | N30: 0 | O30: =M30-N30 -> 0 | S30: =Q30-R30 -> 0 | T30: =SUM(D30,H30,L30,P30) -> 0 | U30: =SUM(E30,I30,M30,Q30) -> 0 | V30: =SUM(F30,J30,N30,R30) -> 0 | W30: =SUM(G30,K30,O30,S30) -> 0
C31: QM | G31: =E31-F31 -> 0 | H31: 0 | I31: 0 | J31: 0 | K31: =I31-J31 -> 0 | L31: 0 | M31: 0 | N31: 0 | O31: =M31-N31 -> 0 | P31: 0 | Q31: 0 | R31: 0 | S31: =Q31-R31 -> 0 | T31: =SUM(D31,H31,L31,P31) -> 0 | U31: =SUM(E31,I31,M31,Q31) -> 0 | V31: =SUM(F31,J31,N31,R31) -> 0 | W31: =SUM(G31,K31,O31,S31) -> 0
B32: Quốc tế | C32: KQM | G32: =E32-F32 -> 0 | H32: 0 | I32: 0 | J32: 0 | K32: =I32-J32 -> 0 | L32: 0 | M32: 0 | N32: 0 | O32: =M32-N32 -> 0 | P32: 0 | Q32: 0 | R32: 0 | S32: =Q32-R32 -> 0 | T32: =SUM(D32,H32,L32,P32) -> 0 | U32: =SUM(E32,I32,M32,Q32) -> 0 | V32: =SUM(F32,J32,N32,R32) -> 0 | W32: =SUM(G32,K32,O32,S32) -> 0
A33: 5. Mua sắm trực tiếp | B33: Trong nước | C33: KQM | G33: =E33-F33 -> 0 | H33: 0 | I33: 0 | J33: 0 | K33: =I33-J33 -> 0 | L33: 0 | M33: 0 | N33: 0 | O33: =M33-N33 -> 0 | P33: 0 | Q33: 0 | R33: 0 | S33: =Q33-R33 -> 0 | T33: =SUM(D33,H33,L33,P33) -> 0 | U33: =SUM(E33,I33,M33,Q33) -> 0 | V33: =SUM(F33,J33,N33,R33) -> 0 | W33: =SUM(G33,K33,O33,S33) -> 0
B34: Quốc tế | C34: KQM | G34: =E34-F34 -> 0 | H34: 0 | I34: 0 | J34: 0 | K34: =I34-J34 -> 0 | L34: 0 | M34: 0 | N34: 0 | O34: =M34-N34 -> 0 | P34: 0 | Q34: 0 | R34: 0 | S34: =Q34-R34 -> 0 | T34: =SUM(D34,H34,L34,P34) -> 0 | U34: =SUM(E34,I34,M34,Q34) -> 0 | V34: =SUM(F34,J34,N34,R34) -> 0 | W34: =SUM(G34,K34,O34,S34) -> 0
A35: 6. Tự thực hiện | B35: Trong nước | C35: KQM | G35: =E35-F35 -> 0 | H35: 0 | I35: 0 | J35: 0 | K35: =I35-J35 -> 0 | L35: 0 | M35: 0 | N35: 0 | O35: =M35-N35 -> 0 | P35: 1 | Q35: 227 | R35: 227 | S35: =Q35-R35 -> 0 | T35: =SUM(D35,H35,L35,P35) -> 1 | U35: =SUM(E35,I35,M35,Q35) -> 227 | V35: =SUM(F35,J35,N35,R35) -> 227 | W35: =SUM(G35,K35,O35,S35) -> 0
A36: 7. Lựa chọn nhà thầu trong trường hợp đặc biệt | B36: Trong nước | C36: KQM | G36: =E36-F36 -> 0 | H36: 0 | I36: 0 | J36: 0 | K36: =I36-J36 -> 0 | L36: 0 | M36: 0 | N36: 0 | O36: =M36-N36 -> 0 | P36: 0 | Q36: 0 | R36: 0 | S36: =Q36-R36 -> 0 | T36: =SUM(D36,H36,L36,P36) -> 0 | U36: =SUM(E36,I36,M36,Q36) -> 0 | V36: =SUM(F36,J36,N36,R36) -> 0 | W36: =SUM(G36,K36,O36,S36) -> 0
B37: Quốc tế | C37: KQM | G37: =E37-F37 -> 0 | H37: 0 | I37: 0 | J37: 0 | K37: =I37-J37 -> 0 | L37: 0 | M37: 0 | N37: 0 | O37: =M37-N37 -> 0 | P37: 0 | Q37: 0 | R37: 0 | S37: =Q37-R37 -> 0 | T37: =SUM(D37,H37,L37,P37) -> 0 | U37: =SUM(E37,I37,M37,Q37) -> 0 | V37: =SUM(F37,J37,N37,R37) -> 0 | W37: =SUM(G37,K37,O37,S37) -> 0
A38: 8. Tham gia thực hiện của cộng đồng | B38: Trong nước | C38: KQM | G38: =E38-F38 -> 0 | H38: 0 | I38: 0 | J38: 0 | K38: =I38-J38 -> 0 | L38: 0 | M38: 0 | N38: 0 | O38: =M38-N38 -> 0 | P38: 0 | Q38: 0 | R38: 0 | S38: =Q38-R38 -> 0 | T38: =SUM(D38,H38,L38,P38) -> 0 | U38: =SUM(E38,I38,M38,Q38) -> 0 | V38: =SUM(F38,J38,N38,R38) -> 0 | W38: =SUM(G38,K38,O38,S38) -> 0
A39: Tổng cộng II | D39: =SUM(INDIRECT("D22:D38")) -> 0 | E39: =SUM(INDIRECT("E22:E38")) -> 0 | F39: =SUM(INDIRECT("F22:F38")) -> 0 | G39: =E39-F39 -> 0 | H39: =SUM(INDIRECT("H22:H38")) -> 0 | I39: =SUM(INDIRECT("I22:I38")) -> 0 | J39: =SUM(INDIRECT("J22:J38")) -> 0 | K39: =I39-J39 -> 0 | L39: =SUM(INDIRECT("L22:L38")) -> 0 | M39: =SUM(INDIRECT("M22:M38")) -> 0 | N39: =SUM(INDIRECT("N22:N38")) -> 0 | O39: =M39-N39 -> 0 | P39: =SUM(INDIRECT("P22:P38")) -> 13 | Q39: =SUM(INDIRECT("Q22:Q38")) -> 11870 | R39: =SUM(INDIRECT("R22:R38")) -> 11833 | S39: =Q39-R39 -> 37 | T39: =SUM(D39,H39,L39,P39) -> 13 | U39: =SUM(E39,I39,M39,Q39) -> 11870 | V39: =SUM(F39,J39,N39,R39) -> 11833 | W39: =SUM(G39,K39,O39,S39) -> 37
A40: 9. Đàm phán giá | B40: Trong nước | C40: KQM
B41: Quốc tế | C41: KQM
...

Sheet Bieu 02A
A1: BIỂU SỐ 02A
A2: BIỂU TỔNG HỢP KẾT QUẢ LỰA CHỌN NHÀ THẦU GÓI THẦU THUỘC DỰ TOÁN MUA SẮM QUY ĐỊNH TẠI ĐIỂM A KHOẢN 1 ĐIỀU 2 LUẬT ĐẤU THẦU SỐ 22/2023/QH15
A4: (Kèm theo Báo cáo số /BC-UBND ngày tháng 01/2026 của UBND xã Tây Thái Ninh)
F5: Đơn vị: Triệu đồng
A6: LĨNH VỰC VÀ HÌNH THỨC | D6: Tổng số gói thầu | E6: Tổng giá gói thầu | F6: Tổng giá trúng thầu | G6: Chênh lệch
A7: I. THEO LĨNH VỰC ĐẤU THẦU
A8: 1. Phi tư vấn | C8: KQM | G8: =INDIRECT("E8")-INDIRECT("F8") -> 0
C9: QM | G9: =INDIRECT("E9")-INDIRECT("F9") -> 0
A10: 2. Tư vấn | C10: KQM | G10: =INDIRECT("E10")-INDIRECT("F10") -> 0
C11: QM | G11: =INDIRECT("E11")-INDIRECT("F11") -> 0
A12: 3. Mua sắm hàng hóa | C12: KQM | D12: =2+2+4+2 -> 10 | E12: =237+50+369+123+498+339+117+148+163+80 -> 2124 | F12: =163+80+1881 -> 2124 | G12: =INDIRECT("E12")-INDIRECT("F12") -> 0
C13: QM | G13: =INDIRECT("E13")-INDIRECT("F13") -> 0
A14: 4. Xây lắp | C14: KQM | G14: =INDIRECT("E14")-INDIRECT("F14") -> 0
C15: QM | G15: =INDIRECT("E15")-INDIRECT("F15") -> 0
A16: 5.Hỗn hợp | C16: KQM
C17: QM
A18: Tổng cộng I | C18: KQM | D18: =SUM(D8,D10,D12,D14) -> 10 | E18: =SUM(E8,E10,E12,E14) -> 2124 | F18: =SUM(F8,F10,F12,F14) -> 2124 | G18: =INDIRECT("E17")-INDIRECT("F17") -> 0
C19: QM | D19: =SUM(D9,D11,D13,D15) -> 0 | E19: =SUM(E9,E11,E13,E15) -> 0 | F19: =SUM(F9,F11,F13,F15) -> 0 | G19: =INDIRECT("E18")-INDIRECT("F18") -> 0
A20: II. THEO HÌNH THỨC LỰA CHỌN NHÀ THẦU
A21: 1. Rộng rãi | B21: Trong nước | C21: KQM | G21: =INDIRECT("E20")-INDIRECT("F20") -> 0
C22: QM | G22: =INDIRECT("E21")-INDIRECT("F21") -> 0
B23: Quốc tế | C23: KQM | G23: =INDIRECT("E22")-INDIRECT("F22") -> 0
A24: 2. Hạn chế | B24: Trong nước | C24: KQM | G24: =INDIRECT("E23")-INDIRECT("F23") -> 0
C25: QM | G25: =INDIRECT("E24")-INDIRECT("F24") -> 0
B26: Quốc tế | C26: KQM | G26: =INDIRECT("E25")-INDIRECT("F25") -> 0
A27: 3. Chỉ định thầu | B27: Trong nước | C27: KQM | D27: 10 | E27: 2124 | F27: 2124 | G27: =INDIRECT("E26")-INDIRECT("F26") -> 0
B28: Quốc tế | C28: KQM | G28: =INDIRECT("E27")-INDIRECT("F27") -> 0
A29: 4. Chào hàng cạnh tranh | B29: Trong nước | C29: KQM | G29: =INDIRECT("E28")-INDIRECT("F28") -> 0
C30: QM | G30: =INDIRECT("E29")-INDIRECT("F29") -> 0
B31: Quốc tế | C31: KQM | G31: =INDIRECT("E30")-INDIRECT("F30") -> 0
A32: 5. Mua sắm trực tiếp | B32: Trong nước | C32: KQM | G32: =INDIRECT("E31")-INDIRECT("F31") -> 0
B33: Quốc tế | C33: KQM | G33: =INDIRECT("E32")-INDIRECT("F32") -> 0
A34: 6. Tự thực hiện | B34: Trong nước | C34: KQM | G34: =INDIRECT("E33")-INDIRECT("F33") -> 0
A35: 7. Lựa chọn nhà thầu trong trường hợp đặc biệt | B35: Trong nước | C35: KQM | G35: =INDIRECT("E34")-INDIRECT("F34") -> 0
B36: Quốc tế | C36: KQM | G36: =INDIRECT("E35")-INDIRECT("F35") -> 0
A37: 8. Tham gia thực hiện của cộng đồng | B37: Trong nước | C37: KQM | G37: =INDIRECT("E36")-INDIRECT("F36") -> 0
A38: Tổng cộng II | D38: =SUM(D21:D37) -> 10 | E38: =SUM(E21:E37) -> 2124 | F38: =SUM(F21:F37) -> 2124 | G38: =INDIRECT("E37")-INDIRECT("F37") -> 0 | H38: MPI2017
A39: 9. Đàm phán giá | B39: Trong nước | C39: KQM
B40: Quốc tế | C40: KQM
A41: 10. Mua sắm trực tuyến | B41: Trong nước | C41: QM
...

Sheet Hướng dẫn nhập
A1: PHẦN 1: HƯỚNG DẪN NHẬP LIỆU TRÊN FILE EXCEL
F2: HƯỚNG DẪN NHẬP THÔNG TIN TRÊN BIỂU MẪU VÀ SỬ DỤNG CHỨC NĂNG HỆ THỐNG
F3: BÁO CÁO TỔNG HỢP KẾT QUẢ LỰA CHỌN NHÀ THẦU NĂM 2022
B5: Căn cứ trên Yêu cầu báo cáo 2022 và đề cương báo cáo, các đơn vị nhập dữ liệu theo biểu mẫu được cung cấp qua địa chỉ https://muasamcong.mpi.gov.vn
B6: Các nội dung báo cáo không sử dụng đúng biểu mẫu được cung cấp sẽ không tải được lên hệ thống qua chức năng nộp báo cáo do sai khác định dạng, cấu trúc dữ liệu.
B7: Các đơn vị chỉ nhập thông tin vào các ô cung cấp không bị khóa, các dữ liệu tính toán như tổng cộng, chênh lệch sẽ được tự động thực hiện qua mẫu excel không cần phải nhập trực tiếp. Trường hợp nhập sai vào ô tính toán sẽ hiển thị cảnh báo không cho phép nhập thông tin
B8: Các đơn vị không tự ý thay đổi định dạng, chèn hoặc xóa bớt các dòng cột trong bảng số liệu. Không copy sang file khác để thực hiện vì khi nộp báo cáo qua hệ thống sẽ báo lỗi không thành công.
B9: Các dòng màu xám là những ô tự động tính theo công thức, người dùng không được phép chỉnh sửa hay can thiệp vào các ô này.
B39: Định dạng dấu chấm, dấu phẩy theo quy định của Việt Nam vì vậy cần kiểm tra việc hiển thị trên biểu mẫu của từng máy,
B40: trong trường hợp chưa thấy Excel hiển thị theo đúng mong muốn có thể sử dụng lựa chọn định dạng trong Excel Options như ảnh dưới đây để có dữ liệu hiển thị chuẩn xác thuận tiện kiểm tra.
B71: Số liệu nhập vào biểu mẫu yêu cầu sử dụng đơn vị là Triệu đồng, vì vậy các đơn vị chủ động làm tròn số liệu đến phần nguyên, không sử dụng phần thập phân.
B72: Số liệu nhập vào biểu mẫu yêu cầu cân đối tổng số giữa các gói thầu thực hiện Không qua mạng và các gói thầu thực hiện Qua mạng,
B73: để hỗ trợ các đơn vị kiểm tra số liệu trên excel trước khi thực hiện tải lên hệ thống có 3 bảng Kiểm tra tương ứng với 3 biểu mẫu như dưới đây
A74: PHẦN 2: HƯỚNG DẪN KIỂM TRA KẾT QUẢ NHẬP LIỆU FILE EXCEL
B75: Sau khi người dùng nhập xong dữ liệu chọn sheet "Kiểm tra kết quả" và cách đối chiếu chi tiết dưới đây.
B76: Trường hợp các cột số liệu đã chính xác các bảng sẽ hiển thị toàn bộ màu xanh và có thể tiến hành nộp báo cáo qua hệ thống muasamcong
B77: Trường hợp có cột số liệu chưa chính xác không cân đối thì cột tương ứng sẽ hiển thị dấu X. Đơn vị cần kiểm tra lại số liệu các gói thầu KQM và QM để hoàn thành.
C79: Bảng kiểm tra số liệu Biểu số 1
A81: Thông tin kiểm tra | C81: Dự án quan trọng quốc gia do Quốc hội chủ trương đầu tư (1) | F81: Dự án nhóm A (2) | I81: Dự án nhóm B (3) | L81: Dự án nhóm C (4)
C82: Tổng số gói thầu | D82: Tổng giá gói thầu | E82: Tổng giá trúng thầu | F82: Tổng số gói thầu | G82: Tổng giá gói thầu | H82: Tổng giá trúng thầu | I82: Tổng số gói thầu | J82: Tổng giá gói thầu | K82: Tổng giá trúng thầu | L82: Tổng số gói thầu | M82: Tổng giá gói thầu | N82: Tổng giá trúng thầu
A83: KQM | D83: x
A84: QM
C87: Bảng kiểm tra số liệu Biểu số 2
A90: Thông tin kiểm tra | C90: Tổng số gói thầu | D90: Tổng giá gói thầu | E90: Tổng giá trúng thầu
A91: KQM
A92: QM | D92: x
C96: Bảng kiểm tra số liệu Biểu số 3
A99: Thông tin kiểm tra | C99: Dự án quan trọng quốc gia do Quốc hội chủ trương đầu tư (1) | F99: Dự án nhóm A (2) | I99: Dự án nhóm B (3) | L99: Dự án nhóm C (4)
C100: Tổng số gói thầu | D100: Tổng giá gói thầu | E100: Tổng giá trúng thầu | F100: Tổng số gói thầu | G100: Tổng giá gói thầu | H100: Tổng giá trúng thầu | I100: Tổng số gói thầu | J100: Tổng giá gói thầu | K100: Tổng giá trúng thầu | L100: Tổng số gói thầu | M100: Tổng giá gói thầu | N100: Tổng giá trúng thầu
A101: KQM | D101: x
A102: QM
A104: PHẦN 3: HƯỚNG DẪN UPLOAD EXCEL LÊN HỆ THỐNG MUASAMCONG.MPI.GOV.VN
B105: Các đơn vị đăng nhập
B106: Sau đó chọn Báo cáo công tác đấu thầu hàng năm và chọn nút Tạo báo cáo. Lưu ý: Đơn vị cần tải và chạy ứng dụng VNeGP Client Agent để thực hiện upload tệp đính kèm
B107: Đơn vị thực hiện theo hình ảnh minh họa dưới đây:
B108: Sau khi đã hoàn thành nhập dữ liệu trên tệp Excel biểu mẫu, đơn vị tiến hành nộp báo cáo qua chức năng tương ứng với tài khoản đăng nhập của đơn vị.
B125: Trường hợp gặp lỗi do tệp excel không đúng định dạng ban hành, số liệu nhập vào do copy/paste sai định dạng không phải là số hợp lệ,
B126: số liệu nhập vào không hợp lệ như nhập số âm, tổng số gói thầu là số thập phân… chức năng nộp báo cáo sẽ hiển thị thông báo tương ứng. Đơn vị thực hiện hiệu chỉnh tệp excel trước khi thực hiện nộp lại.
B127: Các đơn vị phải thực hiện đính kèm đẩy đủ các nội dung biểu mẫu theo quy định.
B128: Mọi chi tiết xin liên hệ: - Đối với lựa chọn nhà thầu: Anh Vũ Tiến Đạt, SĐT: 080.44739, DĐ 0866.103.246. - Đối với lựa chọn nhà đầu tư sử dụng đất và xã hội hóa: Anh Nguyễn Viết Trung, ĐT: 080.44775, DĐ 0916.999.961. - Đối với việc tải số liệu lên hệ thống mạng đấu thầu quốc gia: Anh Dương Văn Hợp DĐ 0949.869.362.

Sheet Kiểm tra kết quả 
A1: PHẦN 2: HƯỚNG DẪN KIỂM TRA KẾT QUẢ NHẬP LIỆU FILE EXCEL
B2: Trường hợp các cột số liệu đã chính xác các bảng sẽ hiển thị toàn bộ màu xanh và có thể tiến hành nộp báo cáo qua hệ thống muasamcong
B3: Trường hợp có cột số liệu chưa chính xác không cân đối thì cột tương ứng sẽ hiển thị dấu X. Đơn vị cần kiểm tra lại số liệu các gói thầu KQM và QM để hoàn thành.
C5: Bảng kiểm tra số liệu Biểu số 1
A7: Thông tin kiểm tra | C7: Dự án quan trọng quốc gia do Quốc hội chủ trương đầu tư (1) | F7: Dự án nhóm A (2) | I7: Dự án nhóm B (3) | L7: Dự án nhóm C (4)
C8: Tổng số gói thầu | D8: Tổng giá gói thầu | E8: Tổng giá trúng thầu | F8: Tổng số gói thầu | G8: Tổng giá gói thầu | H8: Tổng giá trúng thầu | I8: Tổng số gói thầu | J8: Tổng giá gói thầu | K8: Tổng giá trúng thầu | L8: Tổng số gói thầu | M8: Tổng giá gói thầu | N8: Tổng giá trúng thầu
A9: KQM | C9: =IF('Bieu 01'!D19<>'Bieu 01'!D44,"X","") | D9: =IF('Bieu 01'!E19<>'Bieu 01'!E44,"X","") | E9: =IF('Bieu 01'!F19<>'Bieu 01'!F44,"X","") | F9: =IF('Bieu 01'!H19<>'Bieu 01'!H44,"X","") | G9: =IF('Bieu 01'!I19<>'Bieu 01'!I44,"X","") | H9: =IF('Bieu 01'!J19<>'Bieu 01'!J44,"X","") | I9: =IF('Bieu 01'!L19<>'Bieu 01'!L44,"X","") | J9: =IF('Bieu 01'!M19<>'Bieu 01'!M44,"X","") | K9: =IF('Bieu 01'!N19<>'Bieu 01'!N44,"X","") | L9: =IF('Bieu 01'!P19<>'Bieu 01'!P44,"X","") | M9: =IF('Bieu 01'!Q19<>'Bieu 01'!Q44,"X","") | N9: =IF('Bieu 01'!R19<>'Bieu 01'!R44,"X","")
A10: QM | C10: =IF('Bieu 01'!D20<>'Bieu 01'!D45,"X","") | D10: =IF('Bieu 01'!E20<>'Bieu 01'!E45,"X","") | E10: =IF('Bieu 01'!F20<>'Bieu 01'!F45,"X","") | F10: =IF('Bieu 01'!H20<>'Bieu 01'!H45,"X","") | G10: =IF('Bieu 01'!I20<>'Bieu 01'!I45,"X","") | H10: =IF('Bieu 01'!J20<>'Bieu 01'!J45,"X","") | I10: =IF('Bieu 01'!L20<>'Bieu 01'!L45,"X","") | J10: =IF('Bieu 01'!M20<>'Bieu 01'!M45,"X","") | K10: =IF('Bieu 01'!N20<>'Bieu 01'!N45,"X","") | L10: =IF('Bieu 01'!P20<>'Bieu 01'!P45,"X","") | M10: =IF('Bieu 01'!Q20<>'Bieu 01'!Q45,"X","") | N10: =IF('Bieu 01'!R20<>'Bieu 01'!R45,"X","")
C13: Bảng kiểm tra số liệu Biểu số 2
A16: Thông tin kiểm tra | C16: Tổng số gói thầu | D16: Tổng giá gói thầu | E16: Tổng giá trúng thầu
A17: KQM | C17: =IF('Bieu 02A'!D18<>'Bieu 02A'!D43,"X","") | D17: =IF('Bieu 02A'!E18<>'Bieu 02A'!E43,"X","") | E17: =IF('Bieu 02A'!F18<>'Bieu 02A'!F43,"X","")
A18: QM | C18: =IF('Bieu 02A'!D19<>'Bieu 02A'!D44,"X","") | D18: =IF('Bieu 02A'!E19<>'Bieu 02A'!E44,"X","") | E18: =IF('Bieu 02A'!F19<>'Bieu 02A'!F44,"X","")
C22: Bảng kiểm tra số liệu Biểu số 3
A25: Thông tin kiểm tra | C25: Dự án quan trọng quốc gia do Quốc hội chủ trương đầu tư (1) | F25: Dự án nhóm A (2) | I25: Dự án nhóm B (3) | L25: Dự án nhóm C (4)
C26: Tổng số gói thầu | D26: Tổng giá gói thầu | E26: Tổng giá trúng thầu | F26: Tổng số gói thầu | G26: Tổng giá gói thầu | H26: Tổng giá trúng thầu | I26: Tổng số gói thầu | J26: Tổng giá gói thầu | K26: Tổng giá trúng thầu | L26: Tổng số gói thầu | M26: Tổng giá gói thầu | N26: Tổng giá trúng thầu
A27: KQM | C27: =IF(#REF!<>#REF!,"X","") -> #REF! | D27: =IF(#REF!<>#REF!,"X","") -> #REF! | E27: =IF(#REF!<>#REF!,"X","") -> #REF! | F27: =IF(#REF!<>#REF!,"X","") -> #REF! | G27: =IF(#REF!<>#REF!,"X","") -> #REF! | H27: =IF(#REF!<>#REF!,"X","") -> #REF! | I27: =IF(#REF!<>#REF!,"X","") -> #REF! | J27: =IF(#REF!<>#REF!,"X","") -> #REF! | ... N27: =IF(#REF!<>#REF!,"X","") -> #REF!
A28: QM | C28: =IF(#REF!<>#REF!,"X","") -> #REF! | D28: =IF(#REF!<>#REF!,"X","") -> #REF! | E28: =IF(#REF!<>#REF!,"X","") -> #REF! | F28: =IF(#REF!<>#REF!,"X","") -> #REF! | G28: =IF(#REF!<>#REF!,"X","") -> #REF! | H28: =IF(#REF!<>#REF!,"X","") -> #REF! | I28: =IF(#REF!<>#REF!,"X","") -> #REF! | J28: =IF(#REF!<>#REF!,"X","") -> #REF! | ... N28: =IF(#REF!<>#REF!,"X","") -> #REF!
